BEGIN:VCALENDAR
VERSION:2.0
PRODID:-//https://www.ischia.discovercampania.it///NONSGML kigkonsult.se iCalcreator 2.10.15//
METHOD:PUBLISH
BEGIN:VEVENT
UID:20260423T020009CEST-7063lDwKtl@https://www.ischia.discovercampania.it/
DTSTAMP:20260423T000009Z
DESCRIPTION:I festeggiamenti in onore di San Michele Arcangelo a Sant'Angel
 o d'Ischia&nbsp\;si celebrano ogni anno il 29 e 30 settembre&nbsp\;e inclu
 dono la processione del Santo in barca al tramonto del 30 settembre\, acco
 mpagnata da fuochi d'artificio e musica\, oltre a messe solenni\, concerti
  e bancarelle di artigianato e prodotti tipici. https://www.ischia.discove
 rcampania.it/en/events/event/219231-festeggiamenti-in-onore-di-san-michele
 -arcangelo
DTSTART:20260929T060000Z
DTEND:20260929T213000Z
LOCATION:Piazza Sant'Angelo  (80070 Serrara Fontana NA\, Italia)
SUMMARY:Festeggiamenti in onore di San Michele Arcangelo
URL:https://www.ischia.discovercampania.it/en/events/event/219231-festeggia
 menti-in-onore-di-san-michele-arcangelo
END:VEVENT
END:VCALENDAR
