BEGIN:VCALENDAR
VERSION:2.0
PRODID:-//https://www.ischia.discovercampania.it///NONSGML kigkonsult.se iCalcreator 2.10.15//
METHOD:PUBLISH
BEGIN:VEVENT
UID:20260426T023244CEST-0560eHNv7I@https://www.ischia.discovercampania.it/
DTSTAMP:20260426T003244Z
DESCRIPTION:Solenne processione via mare https://www.ischia.discovercampani
 a.it/en/events/event/29723-solenne-processione-via-mare
DTSTART:20240517T163000Z
DTEND:20240517T180000Z
LOCATION:Marina di Lacco Ameno (Via Litoranea\, Lacco Ameno NA\, Italia)
SUMMARY:Solenne processione via mare
URL:https://www.ischia.discovercampania.it/en/events/event/29723-solenne-pr
 ocessione-via-mare
END:VEVENT
END:VCALENDAR
