BEGIN:VCALENDAR
VERSION:2.0
PRODID:-//https://www.ischia.discovercampania.it///NONSGML kigkonsult.se iCalcreator 2.10.15//
METHOD:PUBLISH
BEGIN:VEVENT
UID:20260424T135253CEST-0009o3TtxC@https://www.ischia.discovercampania.it/
DTSTAMP:20260424T115253Z
DESCRIPTION:Summer Time Serrara: PIANO BAR CON CIRO MOZART https://www.isch
 ia.discovercampania.it/en/events/event/31228-summer-time-serrara-piano-bar
 -con-ciro-mozart
DTSTART:20240711T190000Z
DTEND:20240711T215200Z
LOCATION:Borgo di Sant'Angelo (Via Nazario Sauro\, Sant'angelo NA\, Italia)
SUMMARY:Summer Time Serrara: PIANO BAR CON CIRO MOZART
URL:https://www.ischia.discovercampania.it/en/events/event/31228-summer-tim
 e-serrara-piano-bar-con-ciro-mozart
END:VEVENT
END:VCALENDAR
