BEGIN:VCALENDAR
VERSION:2.0
PRODID:-//https://www.ischia.discovercampania.it///NONSGML kigkonsult.se iCalcreator 2.10.15//
METHOD:PUBLISH
BEGIN:VEVENT
UID:20260425T154155CEST-4277lOl8Nc@https://www.ischia.discovercampania.it/
DTSTAMP:20260425T134155Z
DESCRIPTION:Incontri Mediterranei: Neri per caso https://www.ischia.discove
 rcampania.it/en/events/event/31481-incontri-mediterranei-neri-per-caso
DTSTART:20240725T193000Z
DTEND:20240725T213000Z
LOCATION:Piazza Santa Restituta  (Piazza Santa Restituta\, 80076 Lacco Amen
 o NA\, Italia)
SUMMARY:Incontri Mediterranei: Neri per caso
URL:https://www.ischia.discovercampania.it/en/events/event/31481-incontri-m
 editerranei-neri-per-caso
END:VEVENT
END:VCALENDAR
