BEGIN:VCALENDAR
VERSION:2.0
PRODID:-//https://www.ischia.discovercampania.it///NONSGML kigkonsult.se iCalcreator 2.10.15//
METHOD:PUBLISH
BEGIN:VEVENT
UID:20260425T004824CEST-1815NrgrLH@https://www.ischia.discovercampania.it/
DTSTAMP:20260424T224824Z
DESCRIPTION:Concerto degli alliavi dell'Accademia musicale “Note sul mare” 
 https://www.ischia.discovercampania.it/en/events/event/38238-lacco-ameno-i
 n-canti-di-natale-christmas-concert-2024
DTSTART:20241216T173000Z
DTEND:20241216T193000Z
LOCATION:Sala consigliare Comune di Lacco Ameno (Piazza Santa Restituta 1\,
  80076 Lacco Ameno NA)
SUMMARY:Lacco Ameno In-canti di Natale:Christmas Concert 2024
URL:https://www.ischia.discovercampania.it/en/events/event/38238-lacco-amen
 o-in-canti-di-natale-christmas-concert-2024
END:VEVENT
END:VCALENDAR
