BEGIN:VCALENDAR
VERSION:2.0
PRODID:-//https://www.ischia.discovercampania.it///NONSGML kigkonsult.se iCalcreator 2.10.15//
METHOD:PUBLISH
BEGIN:VEVENT
UID:20260424T093453CEST-6109gKASH2@https://www.ischia.discovercampania.it/
DTSTAMP:20260424T073453Z
DESCRIPTION:Spettacolo del M° Peppe Barra ispirato alla celebre Cantata dei
  Pastori. Con Angela Luglio ‘ed Enrico Vicinanza https://www.ischia.discov
 ercampania.it/en/events/event/38244-lacco-ameno-in-canti-di-natale-incanto
 -di-natale-spettacolo-del-m-peppe-barra
DTSTART:20241223T180000Z
DTEND:20241223T200000Z
LOCATION:Basilica di Santa Restituta (Piazza San Restituta\, 1\, 80076 Lacc
 o Ameno NA\, Italia)
SUMMARY:Lacco Ameno In-canti di Natale: Incanto di Natale Spettacolo del  M
 ° Peppe Barra
URL:https://www.ischia.discovercampania.it/en/events/event/38244-lacco-amen
 o-in-canti-di-natale-incanto-di-natale-spettacolo-del-m-peppe-barra
END:VEVENT
END:VCALENDAR
