BEGIN:VCALENDAR
VERSION:2.0
PRODID:-//https://www.ischia.discovercampania.it///NONSGML kigkonsult.se iCalcreator 2.10.15//
METHOD:PUBLISH
BEGIN:VEVENT
UID:20260424T193522CEST-40829hCTMc@https://www.ischia.discovercampania.it/
DTSTAMP:20260424T173522Z
DESCRIPTION:Sfilata musicale della Banda della Città di Ischia https://www.
 ischia.discovercampania.it/en/events/event/38245-lacco-ameno-in-canti-di-n
 atale-fantasie-di-natale
DTSTART:20241225T100000Z
DTEND:20241225T120000Z
LOCATION:Piazza Capitello  (Piazza Salvatore Girardi\, 1\, 80076 Lacco Amen
 o NA\, Italia)
SUMMARY:Lacco Ameno In-canti di Natale: Fantasie di Natale
URL:https://www.ischia.discovercampania.it/en/events/event/38245-lacco-amen
 o-in-canti-di-natale-fantasie-di-natale
END:VEVENT
END:VCALENDAR
