BEGIN:VCALENDAR
VERSION:2.0
PRODID:-//https://www.ischia.discovercampania.it///NONSGML kigkonsult.se iCalcreator 2.10.15//
METHOD:PUBLISH
BEGIN:VEVENT
UID:20260424T114048CEST-5638fh3RdF@https://www.ischia.discovercampania.it/
DTSTAMP:20260424T094048Z
DESCRIPTION:Concerto dei Giassel Voice A cura dell'Associazione Jaaz https:
 //www.ischia.discovercampania.it/en/events/event/38252-lacco-ameno-in-cant
 i-di-natale-gospel-dellepifania
DTSTART:20250105T160000Z
DTEND:20250105T180000Z
LOCATION:Basilica di Santa Restituta (Piazza San Restituta\, 1\, 80076 Lacc
 o Ameno NA\, Italia)
SUMMARY:Lacco Ameno In-canti di Natale: Gospel dell'Epifania
URL:https://www.ischia.discovercampania.it/en/events/event/38252-lacco-amen
 o-in-canti-di-natale-gospel-dellepifania
END:VEVENT
END:VCALENDAR
