BEGIN:VCALENDAR
VERSION:2.0
PRODID:-//https://www.ischia.discovercampania.it///NONSGML kigkonsult.se iCalcreator 2.10.15//
METHOD:PUBLISH
BEGIN:VEVENT
UID:20260423T152043CEST-7745OCbV1R@https://www.ischia.discovercampania.it/
DTSTAMP:20260423T132043Z
DESCRIPTION:Appuntamento per i bambini con Ludobus verranno allestite 25 po
 stazioni giochi in legno\, per una sera tutto lontano dal tablet. Ci vedia
 mo a piazza Santa Restituta evento organizzato dal comune di Lacco Ameno. 
 https://www.ischia.discovercampania.it/eventi/evento/163031-spettacolo-per
 -bambini
DTSTART:20250912T170000Z
DTEND:20250912T205500Z
LOCATION:Piazza S. Restituta (Piazza Santa Restituta\, 80076 Lacco Ameno NA
 \, Italia)
SUMMARY:Spettacolo per bambini
URL:https://www.ischia.discovercampania.it/eventi/evento/163031-spettacolo-
 per-bambini
END:VEVENT
END:VCALENDAR
