BEGIN:VCALENDAR
VERSION:2.0
PRODID:-//https://www.ischia.discovercampania.it///NONSGML kigkonsult.se iCalcreator 2.10.15//
METHOD:PUBLISH
BEGIN:VEVENT
UID:20260424T050728CEST-5462pipIU7@https://www.ischia.discovercampania.it/
DTSTAMP:20260424T030728Z
DESCRIPTION:Spettacolo pirotecnico in onore di Santa Resttiuta https://www.
 ischia.discovercampania.it/eventi/evento/29722-spettacolo-pirotecnico-in-o
 ccasione-di-santa-restituta
DTSTART:20240518T215800Z
DTEND:20240518T215900Z
LOCATION:Marina di Lacco Ameno (Via Litoranea\, Lacco Ameno NA\, Italia)
SUMMARY:Spettacolo pirotecnico in occasione di Santa Restituta
URL:https://www.ischia.discovercampania.it/eventi/evento/29722-spettacolo-p
 irotecnico-in-occasione-di-santa-restituta
END:VEVENT
END:VCALENDAR
