BEGIN:VCALENDAR
VERSION:2.0
PRODID:-//https://www.ischia.discovercampania.it///NONSGML kigkonsult.se iCalcreator 2.10.15//
METHOD:PUBLISH
BEGIN:VEVENT
UID:20260424T080051CEST-3613AWRUPP@https://www.ischia.discovercampania.it/
DTSTAMP:20260424T060051Z
DESCRIPTION:Summer Time Serrara: MUSICNIGHT CON DJ MANUELITO https://www.is
 chia.discovercampania.it/eventi/evento/31234-summer-time-serrara-musicnigh
 t-con-dj-manuelito
DTSTART:20240720T190000Z
DTEND:20240720T215200Z
LOCATION:Piazza Fontana (80070 Serrara Fontana NA\, Italia)
SUMMARY:Summer Time Serrara: MUSICNIGHT CON DJ MANUELITO 
URL:https://www.ischia.discovercampania.it/eventi/evento/31234-summer-time-
 serrara-musicnight-con-dj-manuelito
END:VEVENT
END:VCALENDAR
