BEGIN:VCALENDAR
VERSION:2.0
PRODID:-//https://www.ischia.discovercampania.it///NONSGML kigkonsult.se iCalcreator 2.10.15//
METHOD:PUBLISH
BEGIN:VEVENT
UID:20260425T220804CEST-1751NSVmWg@https://www.ischia.discovercampania.it/
DTSTAMP:20260425T200804Z
DESCRIPTION:Summer Time Serrara: 'LE LINEE EI COLORI DI MONDRIAN' ATTIVITÀ 
 LABORATORIALE PER BAMBINI A CURA DE IL MONDO DI ALICE https://www.ischia.d
 iscovercampania.it/eventi/evento/31248-summer-time-serrara-le-linee-ei-col
 ori-di-mondrian
DTSTART:20240821T170000Z
DTEND:20240821T190000Z
LOCATION:Piazza Succhivo (Via Succhivo\, 80070 Sant'Angelo NA\, Italia)
SUMMARY:Summer Time Serrara: 'LE LINEE EI COLORI DI MONDRIAN' 
URL:https://www.ischia.discovercampania.it/eventi/evento/31248-summer-time-
 serrara-le-linee-ei-colori-di-mondrian
END:VEVENT
END:VCALENDAR
