BEGIN:VCALENDAR
VERSION:2.0
PRODID:-//https://www.ischia.discovercampania.it///NONSGML kigkonsult.se iCalcreator 2.10.15//
METHOD:PUBLISH
BEGIN:VEVENT
UID:20260424T214745CEST-1413gXrf1J@https://www.ischia.discovercampania.it/
DTSTAMP:20260424T194745Z
DESCRIPTION:Summer Time Serrara: MUSICNIGHT CON I TERRAMIA https://www.isch
 ia.discovercampania.it/eventi/evento/31253-summer-time-serrara-musicnight-
 con-i-terramia
DTSTART:20240831T190000Z
DTEND:20240831T210000Z
LOCATION:Piazza Sant'Angelo  (80070 Serrara Fontana NA\, Italia)
SUMMARY:Summer Time Serrara: MUSICNIGHT CON I TERRAMIA
URL:https://www.ischia.discovercampania.it/eventi/evento/31253-summer-time-
 serrara-musicnight-con-i-terramia
END:VEVENT
END:VCALENDAR
