BEGIN:VCALENDAR
VERSION:2.0
PRODID:-//https://www.ischia.discovercampania.it///NONSGML kigkonsult.se iCalcreator 2.10.15//
METHOD:PUBLISH
BEGIN:VEVENT
UID:20260425T154153CEST-5008h4Tl9m@https://www.ischia.discovercampania.it/
DTSTAMP:20260425T134153Z
DESCRIPTION:Summer Time Serrara: MUSICNIGHT CON I PERSONAL https://www.isch
 ia.discovercampania.it/eventi/evento/31254-summer-time-serrara-musicnight-
 con-i-personal
DTSTART:20240905T190000Z
DTEND:20240905T210000Z
LOCATION:Piazza Sant'Angelo  (80070 Serrara Fontana NA\, Italia)
SUMMARY:Summer Time Serrara: MUSICNIGHT CON I PERSONAL
URL:https://www.ischia.discovercampania.it/eventi/evento/31254-summer-time-
 serrara-musicnight-con-i-personal
END:VEVENT
END:VCALENDAR
