BEGIN:VCALENDAR
VERSION:2.0
PRODID:-//https://www.ischia.discovercampania.it///NONSGML kigkonsult.se iCalcreator 2.10.15//
METHOD:PUBLISH
BEGIN:VEVENT
UID:20260424T002438CEST-6987JOmgNt@https://www.ischia.discovercampania.it/
DTSTAMP:20260423T222438Z
DESCRIPTION:Incontri Mediterranei: Alma Partenopea https://www.ischia.disco
 vercampania.it/eventi/evento/31482-incontri-mediterranei-alma-partenopea
DTSTART:20240823T193000Z
DTEND:20240823T213000Z
LOCATION:Piazza Santa Restituta  (Piazza Santa Restituta\, 80076 Lacco Amen
 o NA\, Italia)
SUMMARY:Incontri Mediterranei: Alma Partenopea
URL:https://www.ischia.discovercampania.it/eventi/evento/31482-incontri-med
 iterranei-alma-partenopea
END:VEVENT
END:VCALENDAR
