BEGIN:VCALENDAR
VERSION:2.0
PRODID:-//https://www.ischia.discovercampania.it///NONSGML kigkonsult.se iCalcreator 2.10.15//
METHOD:PUBLISH
BEGIN:VEVENT
UID:20260425T221841CEST-9329tsOcit@https://www.ischia.discovercampania.it/
DTSTAMP:20260425T201841Z
DESCRIPTION:Concerto della pianista Dina Ivanova a cura dell'Associazione N
 ote sul mare https://www.ischia.discovercampania.it/eventi/evento/31651-e-
 state-insieme-a-lacco-ameno-ischia-classica-festival-note-sul-mare-2024
DTSTART:20240807T190000Z
DTEND:20240807T212300Z
LOCATION:Villa Arbusto (Corso Angelo Rizzoli\, 194\, 80076 Lacco Ameno NA\,
  Italia)
SUMMARY:E-state insieme a Lacco Ameno: 'ISCHIA CLASSICA FESTIVAL NOTE SUL M
 ARE 2024
URL:https://www.ischia.discovercampania.it/eventi/evento/31651-e-state-insi
 eme-a-lacco-ameno-ischia-classica-festival-note-sul-mare-2024
END:VEVENT
END:VCALENDAR
