BEGIN:VCALENDAR
VERSION:2.0
PRODID:-//https://www.ischia.discovercampania.it///NONSGML kigkonsult.se iCalcreator 2.10.15//
METHOD:PUBLISH
BEGIN:VEVENT
UID:20260425T050107CEST-7988a75gle@https://www.ischia.discovercampania.it/
DTSTAMP:20260425T030107Z
DESCRIPTION:Serata di intrattenimento e musica in occasione della festività
  della Madonna Assunta https://www.ischia.discovercampania.it/eventi/event
 o/31654-e-state-insieme-a-lacco-ameno-xxxvi-edizione-della-tradizionale-sa
 gra-di-ferragosto
DTSTART:20240813T190000Z
DTEND:20240813T212300Z
LOCATION:Piazza Rosario (Via Rosario\, 80076 Lacco Ameno NA\, Italia)
SUMMARY:E-state insieme a Lacco Ameno: XXXVI edizione della tradizionale SA
 GRA DI FERRAGOSTO
URL:https://www.ischia.discovercampania.it/eventi/evento/31654-e-state-insi
 eme-a-lacco-ameno-xxxvi-edizione-della-tradizionale-sagra-di-ferragosto
END:VEVENT
END:VCALENDAR
