BEGIN:VCALENDAR
VERSION:2.0
PRODID:-//https://www.ischia.discovercampania.it///NONSGML kigkonsult.se iCalcreator 2.10.15//
METHOD:PUBLISH
BEGIN:VEVENT
UID:20260425T004802CEST-05894wTfrk@https://www.ischia.discovercampania.it/
DTSTAMP:20260424T224802Z
DESCRIPTION:Gioni Barbera: Voce e piano Massimo Satta: Chitarra Sandro Rosa
 ti: Basso Giulio Proietti: Batteria https://www.ischia.discovercampania.it
 /eventi/evento/32312-estate-insieme-lacco-ameno-mogol-racconta-mogol
DTSTART:20240907T190000Z
DTEND:20240907T210000Z
LOCATION:Piazza Santa Restituta  (Piazza Santa Restituta\, 80076 Lacco Amen
 o NA\, Italia)
SUMMARY:Estate insieme Lacco Ameno: MOGOL RACCONTA MOGOL
URL:https://www.ischia.discovercampania.it/eventi/evento/32312-estate-insie
 me-lacco-ameno-mogol-racconta-mogol
END:VEVENT
END:VCALENDAR
