BEGIN:VCALENDAR
VERSION:2.0
PRODID:-//https://www.ischia.discovercampania.it///NONSGML kigkonsult.se iCalcreator 2.10.15//
METHOD:PUBLISH
BEGIN:VEVENT
UID:20260424T233403CEST-1414TaOIGN@https://www.ischia.discovercampania.it/
DTSTAMP:20260424T213403Z
DESCRIPTION:II' Edizione Santa messa in suffragio di Angelo Rizzoli a 54 an
 ni dalla sua scomparsa Progetto incluso nel cartellone degli Eventi Metrop
 olitani https://www.ischia.discovercampania.it/eventi/evento/32319-estate-
 insieme-lacco-ameno-omaggio-ad-angelo-rizzoli
DTSTART:20240924T160000Z
DTEND:20240924T183000Z
LOCATION:Villa Arbusto (Corso Angelo Rizzoli\, 194\, 80076 Lacco Ameno NA\,
  Italia)
SUMMARY:Estate insieme Lacco Ameno: OMAGGIO AD ANGELO RIZZOLI
URL:https://www.ischia.discovercampania.it/eventi/evento/32319-estate-insie
 me-lacco-ameno-omaggio-ad-angelo-rizzoli
END:VEVENT
END:VCALENDAR
