BEGIN:VCALENDAR
VERSION:2.0
PRODID:-//https://www.ischia.discovercampania.it///NONSGML kigkonsult.se iCalcreator 2.10.15//
METHOD:PUBLISH
BEGIN:VEVENT
UID:20260424T054246CEST-0108aZcVTv@https://www.ischia.discovercampania.it/
DTSTAMP:20260424T034246Z
DESCRIPTION:Laboratori per bambini a cura de Il Mondo di Alice https://www.
 ischia.discovercampania.it/eventi/evento/36884-mare-copp-mas-laboratorio-p
 er-bambini
DTSTART:20241213T150000Z
DTEND:20241213T170000Z
LOCATION:Centro Polifunzionale di Fontana (Piazza Arturo Trofa - Serrara)
SUMMARY:Mare Copp Mas: Laboratorio per bambini
URL:https://www.ischia.discovercampania.it/eventi/evento/36884-mare-copp-ma
 s-laboratorio-per-bambini
END:VEVENT
END:VCALENDAR
