BEGIN:VCALENDAR
VERSION:2.0
PRODID:-//https://www.ischia.discovercampania.it///NONSGML kigkonsult.se iCalcreator 2.10.15//
METHOD:PUBLISH
BEGIN:VEVENT
UID:20260424T201043CEST-55835kxo7e@https://www.ischia.discovercampania.it/
DTSTAMP:20260424T181043Z
DESCRIPTION:Arriva la Befana per i più piccoli SERRARA FONTANA https://www.
 ischia.discovercampania.it/eventi/evento/36893-mare-copp-mas-arriva-la-bef
 ana
DTSTART:20250106T093000Z
DTEND:20250106T145900Z
LOCATION:Comune di Serrara Fontana (Via Roma\, 79\, 80070 Serrara Fontana N
 A\, Italia)
SUMMARY:Mare Copp Mas: Arriva la Befana
URL:https://www.ischia.discovercampania.it/eventi/evento/36893-mare-copp-ma
 s-arriva-la-befana
END:VEVENT
END:VCALENDAR
