BEGIN:VCALENDAR
VERSION:2.0
PRODID:-//https://www.ischia.discovercampania.it///NONSGML kigkonsult.se iCalcreator 2.10.15//
METHOD:PUBLISH
BEGIN:VEVENT
UID:20260423T152126CEST-2445puv8rB@https://www.ischia.discovercampania.it/
DTSTAMP:20260423T132126Z
DESCRIPTION:Concerto: Stabat Mater di Salvatore Ronga con Lucianna De Falco
  https://www.ischia.discovercampania.it/eventi/evento/68449-concerto-staba
 t-mater
DTSTART:20250415T183000Z
DTEND:20250415T200000Z
LOCATION:Basilica di Santa Restituta (Piazza San Restituta\, 1\, 80076 Lacc
 o Ameno NA\, Italia)
SUMMARY:Concerto: Stabat Mater
URL:https://www.ischia.discovercampania.it/eventi/evento/68449-concerto-sta
 bat-mater
END:VEVENT
END:VCALENDAR
