BEGIN:VCALENDAR
VERSION:2.0
PRODID:-//https://www.ischia.discovercampania.it///NONSGML kigkonsult.se iCalcreator 2.10.15//
METHOD:PUBLISH
BEGIN:VEVENT
UID:20260423T151926CEST-9875sPvENi@https://www.ischia.discovercampania.it/
DTSTAMP:20260423T131926Z
DESCRIPTION:Il liceo Buchner presenta il concerto per la pace https://www.i
 schia.discovercampania.it/eventi/evento/70166-concerto-per-la-pace
DTSTART:20250429T163000Z
DTEND:20250429T173000Z
LOCATION:Basilica di Santa Restituta (Piazza San Restituta\, 1\, 80076 Lacc
 o Ameno NA\, Italia)
SUMMARY:Concerto per la pace
URL:https://www.ischia.discovercampania.it/eventi/evento/70166-concerto-per
 -la-pace
END:VEVENT
END:VCALENDAR
